BEGIN:VCALENDAR
VERSION:2.0
PRODID:-//ChamberMaster//Event Calendar 2.0//EN
METHOD:PUBLISH
X-PUBLISHED-TTL:P1H
REFRESH-INTERVAL:P1H
CALSCALE:GREGORIAN
BEGIN:VTIMEZONE
TZID:America/New_York
BEGIN:DAYLIGHT
RRULE:FREQ=YEARLY;BYMONTH=3;BYDAY=2SU
DTSTART:20070101T000000
TZOFFSETFROM:-0500
TZOFFSETTO:-0400
TZNAME:Eastern Daylight Time
END:DAYLIGHT
BEGIN:STANDARD
RRULE:FREQ=YEARLY;BYMONTH=11;BYDAY=1SU
DTSTART:20070101T000000
TZOFFSETFROM:-0400
TZOFFSETTO:-0500
TZNAME:Eastern Standard Time
END:STANDARD
END:VTIMEZONE
BEGIN:VEVENT
DTSTART;TZID=America/New_York:20260429T120000
DTEND;TZID=America/New_York:20260429T130000
X-MICROSOFT-CDO-ALLDAYEVENT:FALSE
SUMMARY:Building the Foundation of Literacy with Apple
DESCRIPTION:Learning how to read allows students to learn\, enjoy\, and understand the world through the words around them. Join us to explore how iPad can foster reading\, writing\, listening\, and speaking skills through hands-on learning experiences that empower students to become engaged\, independent readers. We’ll also share ways that multimodal approaches paired with international practice can help students make meaning from text and bring the joy of literacy to life.
X-ALT-DESC;FMTTYPE=text/html:Learning how to read allows students to learn\, enjoy\, and understand the world through the words around them. Join us to explore how iPad can foster reading\, writing\, listening\, and speaking skills through hands-on learning experiences that empower students to become engaged\, independent readers. We’ll also share ways that multimodal approaches paired with international practice can help students make meaning from text and bring the joy of literacy to life.
LOCATION:
UID:e.4076.1436926
SEQUENCE:3
DTSTAMP:20260423T232719Z
URL:https://principal.vaesp.net/eventcalendar/Details/building-the-foundation-of-literacy-with-apple-1700946?sourceTypeId=Hub
END:VEVENT
END:VCALENDAR
